BEGIN:VCALENDAR
PRODID:-//Calendar export
VERSION:2.0
X-WR-TIMEZONE:Etc/GMT
BEGIN:VTIMEZONE
TZID:GMT Standard Time
BEGIN:STANDARD
TZOFFSETFROM:+0000
TZOFFSETTO:+0000
END:STANDARD
END:VTIMEZONE
BEGIN:VEVENT
UID:AE1635
DTSTAMP:20260421T220200Z
SUMMARY:Oltre la mission, il lavoro
CLASS:PUBLIC
DESCRIPTION:7 maggio 2026 | ore 10.00\\n\\nVia Barigozzi 24\, Milano\\n
 \\nNell’ambito
  della Milano Civil Week\, un incontro dedicato a benessere delle persone
  e sostenibilità organizzativa nel Terzo Settore\, con interventi\, tavol
 a rotonda e workshop tematici.\\n\\nIscrizione online obbligatoria.\\n\\n
  \\n\\n 
STATUS:CONFIRMED
PRIORITY:1
DTSTART:20260506T220000Z
DTEND:20260507T215900Z
TRANSP:OPAQUE
END:VEVENT
END:VCALENDAR
